BEGIN:VCALENDAR
VERSION:2.0
PRODID:-//prideART Berlin e.V. - ECPv6.6.0.2//NONSGML v1.0//EN
CALSCALE:GREGORIAN
METHOD:PUBLISH
X-ORIGINAL-URL:https://prideart.shop
X-WR-CALDESC:Veranstaltungen für prideART Berlin e.V.
REFRESH-INTERVAL;VALUE=DURATION:PT1H
X-Robots-Tag:noindex
X-PUBLISHED-TTL:PT1H
BEGIN:VTIMEZONE
TZID:Europe/Berlin
BEGIN:DAYLIGHT
TZOFFSETFROM:+0100
TZOFFSETTO:+0200
TZNAME:CEST
DTSTART:20240331T010000
END:DAYLIGHT
BEGIN:STANDARD
TZOFFSETFROM:+0200
TZOFFSETTO:+0100
TZNAME:CET
DTSTART:20241027T010000
END:STANDARD
END:VTIMEZONE
BEGIN:VEVENT
DTSTART;TZID=Europe/Berlin:20240719T150000
DTEND;TZID=Europe/Berlin:20240719T200000
DTSTAMP:20260425T222042
CREATED:20240420T060031Z
LAST-MODIFIED:20240420T060031Z
UID:10000036-1721401200-1721419200@prideart.shop
SUMMARY:Intersectional 6.0: Stolz und Vorurteil
DESCRIPTION:
URL:https://prideart.shop/event/intersectional-6-0-stolz-und-vorurteil-2/
END:VEVENT
BEGIN:VEVENT
DTSTART;TZID=Europe/Berlin:20240720T150000
DTEND;TZID=Europe/Berlin:20240720T200000
DTSTAMP:20260425T222042
CREATED:20240420T141314Z
LAST-MODIFIED:20240420T141314Z
UID:10000037-1721487600-1721505600@prideart.shop
SUMMARY:Intersectional 6.0: Stolz und Vorurteil
DESCRIPTION:
URL:https://prideart.shop/event/intersectional-6-0-stolz-und-vorurteil-3/
END:VEVENT
BEGIN:VEVENT
DTSTART;TZID=Europe/Berlin:20240721T150000
DTEND;TZID=Europe/Berlin:20240721T200000
DTSTAMP:20260425T222042
CREATED:20240420T141326Z
LAST-MODIFIED:20240420T141326Z
UID:10000038-1721574000-1721592000@prideart.shop
SUMMARY:Intersectional 6.0: Stolz und Vorurteil
DESCRIPTION:
URL:https://prideart.shop/event/intersectional-6-0-stolz-und-vorurteil-4/
END:VEVENT
BEGIN:VEVENT
DTSTART;TZID=Europe/Berlin:20240726T150000
DTEND;TZID=Europe/Berlin:20240726T200000
DTSTAMP:20260425T222042
CREATED:20240420T141415Z
LAST-MODIFIED:20240420T141415Z
UID:10000039-1722006000-1722024000@prideart.shop
SUMMARY:Intersectional 6.0: Stolz und Vorurteil
DESCRIPTION:
URL:https://prideart.shop/event/intersectional-6-0-stolz-und-vorurteil-5/
END:VEVENT
BEGIN:VEVENT
DTSTART;TZID=Europe/Berlin:20240727T150000
DTEND;TZID=Europe/Berlin:20240727T200000
DTSTAMP:20260425T222042
CREATED:20240420T141425Z
LAST-MODIFIED:20240420T141425Z
UID:10000040-1722092400-1722110400@prideart.shop
SUMMARY:Intersectional 6.0: Stolz und Vorurteil
DESCRIPTION:
URL:https://prideart.shop/event/intersectional-6-0-stolz-und-vorurteil-6/
END:VEVENT
BEGIN:VEVENT
DTSTART;TZID=Europe/Berlin:20240728T150000
DTEND;TZID=Europe/Berlin:20240728T200000
DTSTAMP:20260425T222042
CREATED:20240420T141439Z
LAST-MODIFIED:20240420T141439Z
UID:10000041-1722178800-1722196800@prideart.shop
SUMMARY:Intersectional 6.0: Stolz und Vorurteil
DESCRIPTION:
URL:https://prideart.shop/event/intersectional-6-0-stolz-und-vorurteil-7/
END:VEVENT
END:VCALENDAR