BEGIN:VCALENDAR
VERSION:2.0
PRODID:-//prideART Berlin e.V. - ECPv6.6.0.2//NONSGML v1.0//EN
CALSCALE:GREGORIAN
METHOD:PUBLISH
X-WR-CALNAME:prideART Berlin e.V.
X-ORIGINAL-URL:https://prideart.shop
X-WR-CALDESC:Veranstaltungen für prideART Berlin e.V.
REFRESH-INTERVAL;VALUE=DURATION:PT1H
X-Robots-Tag:noindex
X-PUBLISHED-TTL:PT1H
BEGIN:VTIMEZONE
TZID:Europe/Berlin
BEGIN:DAYLIGHT
TZOFFSETFROM:+0100
TZOFFSETTO:+0200
TZNAME:CEST
DTSTART:20250330T010000
END:DAYLIGHT
BEGIN:STANDARD
TZOFFSETFROM:+0200
TZOFFSETTO:+0100
TZNAME:CET
DTSTART:20251026T010000
END:STANDARD
BEGIN:DAYLIGHT
TZOFFSETFROM:+0100
TZOFFSETTO:+0200
TZNAME:CEST
DTSTART:20260329T010000
END:DAYLIGHT
BEGIN:STANDARD
TZOFFSETFROM:+0200
TZOFFSETTO:+0100
TZNAME:CET
DTSTART:20261025T010000
END:STANDARD
END:VTIMEZONE
BEGIN:VEVENT
DTSTART;TZID=Europe/Berlin:20260412T150000
DTEND;TZID=Europe/Berlin:20260412T180000
DTSTAMP:20260425T140036
CREATED:20260101T133051Z
LAST-MODIFIED:20260104T165618Z
UID:10000108-1776006000-1776016800@prideart.shop
SUMMARY:fluid FEMINITY
DESCRIPTION:fluid FEMINITY – Mut\, Sichtbarkeit\, Identität \nWeiblichkeit ist kein Zustand – sie ist Bewegung. Und sie hört niemals auf. \nMit dieser neuen Ausstellung widmet sich prideART Berlin e.V. einem der spannendsten Themen unserer Zeit: Weiblichkeit – in all ihren Formen\, Körpern und Identitäten. Rund 50 internationale Künstlerinnen aus der LGBTQI-Community zeigen in Malerei\, Fotografie\, Skulptur und Performance\, was „weiblich“ heute bedeutet – und was es schon lange nicht mehr heißen sollte. \nVon Frauenbildern zwischen Empowerment und Erwartungsdruck über trans und intersexuelle Identitäten bis hin zu Drag und Travestie – die Ausstellung öffnet Räume für Fragen\, Widersprüche und neue Perspektiven. Sie beleuchtet\, wie Weiblichkeit in Kunst\, Gesellschaft und queeren Communities erlebt\, gefeiert\, aber auch diskriminiert wird. \nMit Mut\, Humor und künstlerischer Kraft fordert fluid FEMINITY dazu auf\, Weiblichkeit neu zu denken – jenseits von Klischees\, jenseits von Grenzen. \nOrt: prideART Berlin e.V.\, Söhtstr. 7\, 12203 Berlin  \nEintritt ab 18 Jahren.\nInfos: www.prideART.eu
URL:https://prideart.shop/event/fluid-feminity/2026-04-12/
LOCATION:prideART Berlin e.V.\, Söhtstr. 7\, Berlin\, Berlin\, 12203\, Deutschland
END:VEVENT
BEGIN:VEVENT
DTSTART;TZID=Europe/Berlin:20260411T150000
DTEND;TZID=Europe/Berlin:20260411T180000
DTSTAMP:20260425T140036
CREATED:20260101T133051Z
LAST-MODIFIED:20260104T165618Z
UID:10000107-1775919600-1775930400@prideart.shop
SUMMARY:fluid FEMINITY
DESCRIPTION:fluid FEMINITY – Mut\, Sichtbarkeit\, Identität \nWeiblichkeit ist kein Zustand – sie ist Bewegung. Und sie hört niemals auf. \nMit dieser neuen Ausstellung widmet sich prideART Berlin e.V. einem der spannendsten Themen unserer Zeit: Weiblichkeit – in all ihren Formen\, Körpern und Identitäten. Rund 50 internationale Künstlerinnen aus der LGBTQI-Community zeigen in Malerei\, Fotografie\, Skulptur und Performance\, was „weiblich“ heute bedeutet – und was es schon lange nicht mehr heißen sollte. \nVon Frauenbildern zwischen Empowerment und Erwartungsdruck über trans und intersexuelle Identitäten bis hin zu Drag und Travestie – die Ausstellung öffnet Räume für Fragen\, Widersprüche und neue Perspektiven. Sie beleuchtet\, wie Weiblichkeit in Kunst\, Gesellschaft und queeren Communities erlebt\, gefeiert\, aber auch diskriminiert wird. \nMit Mut\, Humor und künstlerischer Kraft fordert fluid FEMINITY dazu auf\, Weiblichkeit neu zu denken – jenseits von Klischees\, jenseits von Grenzen. \nOrt: prideART Berlin e.V.\, Söhtstr. 7\, 12203 Berlin  \nEintritt ab 18 Jahren.\nInfos: www.prideART.eu
URL:https://prideart.shop/event/fluid-feminity/2026-04-11/
LOCATION:prideART Berlin e.V.\, Söhtstr. 7\, Berlin\, Berlin\, 12203\, Deutschland
END:VEVENT
BEGIN:VEVENT
DTSTART;TZID=Europe/Berlin:20260405T150000
DTEND;TZID=Europe/Berlin:20260405T180000
DTSTAMP:20260425T140036
CREATED:20260101T133051Z
LAST-MODIFIED:20260104T165618Z
UID:10000106-1775401200-1775412000@prideart.shop
SUMMARY:fluid FEMINITY
DESCRIPTION:fluid FEMINITY – Mut\, Sichtbarkeit\, Identität \nWeiblichkeit ist kein Zustand – sie ist Bewegung. Und sie hört niemals auf. \nMit dieser neuen Ausstellung widmet sich prideART Berlin e.V. einem der spannendsten Themen unserer Zeit: Weiblichkeit – in all ihren Formen\, Körpern und Identitäten. Rund 50 internationale Künstlerinnen aus der LGBTQI-Community zeigen in Malerei\, Fotografie\, Skulptur und Performance\, was „weiblich“ heute bedeutet – und was es schon lange nicht mehr heißen sollte. \nVon Frauenbildern zwischen Empowerment und Erwartungsdruck über trans und intersexuelle Identitäten bis hin zu Drag und Travestie – die Ausstellung öffnet Räume für Fragen\, Widersprüche und neue Perspektiven. Sie beleuchtet\, wie Weiblichkeit in Kunst\, Gesellschaft und queeren Communities erlebt\, gefeiert\, aber auch diskriminiert wird. \nMit Mut\, Humor und künstlerischer Kraft fordert fluid FEMINITY dazu auf\, Weiblichkeit neu zu denken – jenseits von Klischees\, jenseits von Grenzen. \nOrt: prideART Berlin e.V.\, Söhtstr. 7\, 12203 Berlin  \nEintritt ab 18 Jahren.\nInfos: www.prideART.eu
URL:https://prideart.shop/event/fluid-feminity/2026-04-05/
LOCATION:prideART Berlin e.V.\, Söhtstr. 7\, Berlin\, Berlin\, 12203\, Deutschland
END:VEVENT
BEGIN:VEVENT
DTSTART;TZID=Europe/Berlin:20260404T150000
DTEND;TZID=Europe/Berlin:20260404T180000
DTSTAMP:20260425T140036
CREATED:20260101T133051Z
LAST-MODIFIED:20260104T165618Z
UID:10000105-1775314800-1775325600@prideart.shop
SUMMARY:fluid FEMINITY
DESCRIPTION:fluid FEMINITY – Mut\, Sichtbarkeit\, Identität \nWeiblichkeit ist kein Zustand – sie ist Bewegung. Und sie hört niemals auf. \nMit dieser neuen Ausstellung widmet sich prideART Berlin e.V. einem der spannendsten Themen unserer Zeit: Weiblichkeit – in all ihren Formen\, Körpern und Identitäten. Rund 50 internationale Künstlerinnen aus der LGBTQI-Community zeigen in Malerei\, Fotografie\, Skulptur und Performance\, was „weiblich“ heute bedeutet – und was es schon lange nicht mehr heißen sollte. \nVon Frauenbildern zwischen Empowerment und Erwartungsdruck über trans und intersexuelle Identitäten bis hin zu Drag und Travestie – die Ausstellung öffnet Räume für Fragen\, Widersprüche und neue Perspektiven. Sie beleuchtet\, wie Weiblichkeit in Kunst\, Gesellschaft und queeren Communities erlebt\, gefeiert\, aber auch diskriminiert wird. \nMit Mut\, Humor und künstlerischer Kraft fordert fluid FEMINITY dazu auf\, Weiblichkeit neu zu denken – jenseits von Klischees\, jenseits von Grenzen. \nOrt: prideART Berlin e.V.\, Söhtstr. 7\, 12203 Berlin  \nEintritt ab 18 Jahren.\nInfos: www.prideART.eu
URL:https://prideart.shop/event/fluid-feminity/2026-04-04/
LOCATION:prideART Berlin e.V.\, Söhtstr. 7\, Berlin\, Berlin\, 12203\, Deutschland
END:VEVENT
BEGIN:VEVENT
DTSTART;TZID=Europe/Berlin:20260403T150000
DTEND;TZID=Europe/Berlin:20260403T180000
DTSTAMP:20260425T140036
CREATED:20260101T133051Z
LAST-MODIFIED:20260104T165618Z
UID:10000104-1775228400-1775239200@prideart.shop
SUMMARY:fluid FEMINITY
DESCRIPTION:fluid FEMINITY – Mut\, Sichtbarkeit\, Identität \nWeiblichkeit ist kein Zustand – sie ist Bewegung. Und sie hört niemals auf. \nMit dieser neuen Ausstellung widmet sich prideART Berlin e.V. einem der spannendsten Themen unserer Zeit: Weiblichkeit – in all ihren Formen\, Körpern und Identitäten. Rund 50 internationale Künstlerinnen aus der LGBTQI-Community zeigen in Malerei\, Fotografie\, Skulptur und Performance\, was „weiblich“ heute bedeutet – und was es schon lange nicht mehr heißen sollte. \nVon Frauenbildern zwischen Empowerment und Erwartungsdruck über trans und intersexuelle Identitäten bis hin zu Drag und Travestie – die Ausstellung öffnet Räume für Fragen\, Widersprüche und neue Perspektiven. Sie beleuchtet\, wie Weiblichkeit in Kunst\, Gesellschaft und queeren Communities erlebt\, gefeiert\, aber auch diskriminiert wird. \nMit Mut\, Humor und künstlerischer Kraft fordert fluid FEMINITY dazu auf\, Weiblichkeit neu zu denken – jenseits von Klischees\, jenseits von Grenzen. \nOrt: prideART Berlin e.V.\, Söhtstr. 7\, 12203 Berlin  \nEintritt ab 18 Jahren.\nInfos: www.prideART.eu
URL:https://prideart.shop/event/fluid-feminity/2026-04-03/
LOCATION:prideART Berlin e.V.\, Söhtstr. 7\, Berlin\, Berlin\, 12203\, Deutschland
END:VEVENT
BEGIN:VEVENT
DTSTART;TZID=Europe/Berlin:20260329T150000
DTEND;TZID=Europe/Berlin:20260329T180000
DTSTAMP:20260425T140036
CREATED:20260101T133051Z
LAST-MODIFIED:20260104T165618Z
UID:10000103-1774796400-1774807200@prideart.shop
SUMMARY:fluid FEMINITY
DESCRIPTION:fluid FEMINITY – Mut\, Sichtbarkeit\, Identität \nWeiblichkeit ist kein Zustand – sie ist Bewegung. Und sie hört niemals auf. \nMit dieser neuen Ausstellung widmet sich prideART Berlin e.V. einem der spannendsten Themen unserer Zeit: Weiblichkeit – in all ihren Formen\, Körpern und Identitäten. Rund 50 internationale Künstlerinnen aus der LGBTQI-Community zeigen in Malerei\, Fotografie\, Skulptur und Performance\, was „weiblich“ heute bedeutet – und was es schon lange nicht mehr heißen sollte. \nVon Frauenbildern zwischen Empowerment und Erwartungsdruck über trans und intersexuelle Identitäten bis hin zu Drag und Travestie – die Ausstellung öffnet Räume für Fragen\, Widersprüche und neue Perspektiven. Sie beleuchtet\, wie Weiblichkeit in Kunst\, Gesellschaft und queeren Communities erlebt\, gefeiert\, aber auch diskriminiert wird. \nMit Mut\, Humor und künstlerischer Kraft fordert fluid FEMINITY dazu auf\, Weiblichkeit neu zu denken – jenseits von Klischees\, jenseits von Grenzen. \nOrt: prideART Berlin e.V.\, Söhtstr. 7\, 12203 Berlin  \nEintritt ab 18 Jahren.\nInfos: www.prideART.eu
URL:https://prideart.shop/event/fluid-feminity/2026-03-29/
LOCATION:prideART Berlin e.V.\, Söhtstr. 7\, Berlin\, Berlin\, 12203\, Deutschland
END:VEVENT
BEGIN:VEVENT
DTSTART;TZID=Europe/Berlin:20260328T150000
DTEND;TZID=Europe/Berlin:20260328T180000
DTSTAMP:20260425T140036
CREATED:20260101T133051Z
LAST-MODIFIED:20260104T165618Z
UID:10000102-1774710000-1774720800@prideart.shop
SUMMARY:fluid FEMINITY
DESCRIPTION:fluid FEMINITY – Mut\, Sichtbarkeit\, Identität \nWeiblichkeit ist kein Zustand – sie ist Bewegung. Und sie hört niemals auf. \nMit dieser neuen Ausstellung widmet sich prideART Berlin e.V. einem der spannendsten Themen unserer Zeit: Weiblichkeit – in all ihren Formen\, Körpern und Identitäten. Rund 50 internationale Künstlerinnen aus der LGBTQI-Community zeigen in Malerei\, Fotografie\, Skulptur und Performance\, was „weiblich“ heute bedeutet – und was es schon lange nicht mehr heißen sollte. \nVon Frauenbildern zwischen Empowerment und Erwartungsdruck über trans und intersexuelle Identitäten bis hin zu Drag und Travestie – die Ausstellung öffnet Räume für Fragen\, Widersprüche und neue Perspektiven. Sie beleuchtet\, wie Weiblichkeit in Kunst\, Gesellschaft und queeren Communities erlebt\, gefeiert\, aber auch diskriminiert wird. \nMit Mut\, Humor und künstlerischer Kraft fordert fluid FEMINITY dazu auf\, Weiblichkeit neu zu denken – jenseits von Klischees\, jenseits von Grenzen. \nOrt: prideART Berlin e.V.\, Söhtstr. 7\, 12203 Berlin  \nEintritt ab 18 Jahren.\nInfos: www.prideART.eu
URL:https://prideart.shop/event/fluid-feminity/2026-03-28/
LOCATION:prideART Berlin e.V.\, Söhtstr. 7\, Berlin\, Berlin\, 12203\, Deutschland
END:VEVENT
BEGIN:VEVENT
DTSTART;TZID=Europe/Berlin:20260326T180000
DTEND;TZID=Europe/Berlin:20260412T200000
DTSTAMP:20260425T140036
CREATED:20260101T133051Z
LAST-MODIFIED:20260104T165618Z
UID:10000101-1774548000-1776024000@prideart.shop
SUMMARY:fluid FEMINITY
DESCRIPTION:fluid FEMINITY – Mut\, Sichtbarkeit\, Identität \nWeiblichkeit ist kein Zustand – sie ist Bewegung. Und sie hört niemals auf. \nMit dieser neuen Ausstellung widmet sich prideART Berlin e.V. einem der spannendsten Themen unserer Zeit: Weiblichkeit – in all ihren Formen\, Körpern und Identitäten. Rund 50 internationale Künstlerinnen aus der LGBTQI-Community zeigen in Malerei\, Fotografie\, Skulptur und Performance\, was „weiblich“ heute bedeutet – und was es schon lange nicht mehr heißen sollte. \nVon Frauenbildern zwischen Empowerment und Erwartungsdruck über trans und intersexuelle Identitäten bis hin zu Drag und Travestie – die Ausstellung öffnet Räume für Fragen\, Widersprüche und neue Perspektiven. Sie beleuchtet\, wie Weiblichkeit in Kunst\, Gesellschaft und queeren Communities erlebt\, gefeiert\, aber auch diskriminiert wird. \nMit Mut\, Humor und künstlerischer Kraft fordert fluid FEMINITY dazu auf\, Weiblichkeit neu zu denken – jenseits von Klischees\, jenseits von Grenzen. \nOrt: prideART Berlin e.V.\, Söhtstr. 7\, 12203 Berlin  \nEintritt ab 18 Jahren.\nInfos: www.prideART.eu
URL:https://prideart.shop/event/fluid-feminity/2026-03-26/
LOCATION:prideART Berlin e.V.\, Söhtstr. 7\, Berlin\, Berlin\, 12203\, Deutschland
END:VEVENT
BEGIN:VEVENT
DTSTART;VALUE=DATE:20250914
DTEND;VALUE=DATE:20250915
DTSTAMP:20260425T140036
CREATED:20250503T080152Z
LAST-MODIFIED:20250503T084937Z
UID:10000100-1757862000-1757880000@prideart.shop
SUMMARY:UNBOUND 2025
DESCRIPTION:
URL:https://prideart.shop/event/unbound-2025/2025-09-14/
LOCATION:prideART Berlin e.V.\, Söhtstr. 7\, Berlin\, Berlin\, 12203\, Deutschland
ATTACH;FMTTYPE=image/jpeg:https://prideart.shop/wp-content/uploads/2025/05/Unbound-2025-scaled.jpg
END:VEVENT
BEGIN:VEVENT
DTSTART;VALUE=DATE:20250913
DTEND;VALUE=DATE:20250914
DTSTAMP:20260425T140036
CREATED:20250503T080152Z
LAST-MODIFIED:20250503T084937Z
UID:10000099-1757775600-1757793600@prideart.shop
SUMMARY:UNBOUND 2025
DESCRIPTION:
URL:https://prideart.shop/event/unbound-2025/2025-09-13/
LOCATION:prideART Berlin e.V.\, Söhtstr. 7\, Berlin\, Berlin\, 12203\, Deutschland
ATTACH;FMTTYPE=image/jpeg:https://prideart.shop/wp-content/uploads/2025/05/Unbound-2025-scaled.jpg
END:VEVENT
BEGIN:VEVENT
DTSTART;VALUE=DATE:20250912
DTEND;VALUE=DATE:20250913
DTSTAMP:20260425T140036
CREATED:20250503T080152Z
LAST-MODIFIED:20250503T084937Z
UID:10000098-1757689200-1757707200@prideart.shop
SUMMARY:UNBOUND 2025
DESCRIPTION:
URL:https://prideart.shop/event/unbound-2025/2025-09-12/
LOCATION:prideART Berlin e.V.\, Söhtstr. 7\, Berlin\, Berlin\, 12203\, Deutschland
ATTACH;FMTTYPE=image/jpeg:https://prideart.shop/wp-content/uploads/2025/05/Unbound-2025-scaled.jpg
END:VEVENT
BEGIN:VEVENT
DTSTART;VALUE=DATE:20250907
DTEND;VALUE=DATE:20250908
DTSTAMP:20260425T140037
CREATED:20250503T080152Z
LAST-MODIFIED:20250503T084937Z
UID:10000097-1757257200-1757275200@prideart.shop
SUMMARY:UNBOUND 2025
DESCRIPTION:
URL:https://prideart.shop/event/unbound-2025/2025-09-07/
LOCATION:prideART Berlin e.V.\, Söhtstr. 7\, Berlin\, Berlin\, 12203\, Deutschland
ATTACH;FMTTYPE=image/jpeg:https://prideart.shop/wp-content/uploads/2025/05/Unbound-2025-scaled.jpg
END:VEVENT
BEGIN:VEVENT
DTSTART;VALUE=DATE:20250906
DTEND;VALUE=DATE:20250907
DTSTAMP:20260425T140037
CREATED:20250503T080152Z
LAST-MODIFIED:20250503T084937Z
UID:10000096-1757170800-1757188800@prideart.shop
SUMMARY:UNBOUND 2025
DESCRIPTION:
URL:https://prideart.shop/event/unbound-2025/2025-09-06/
LOCATION:prideART Berlin e.V.\, Söhtstr. 7\, Berlin\, Berlin\, 12203\, Deutschland
ATTACH;FMTTYPE=image/jpeg:https://prideart.shop/wp-content/uploads/2025/05/Unbound-2025-scaled.jpg
END:VEVENT
BEGIN:VEVENT
DTSTART;VALUE=DATE:20250905
DTEND;VALUE=DATE:20250906
DTSTAMP:20260425T140037
CREATED:20250503T080152Z
LAST-MODIFIED:20250503T084937Z
UID:10000095-1757084400-1757102400@prideart.shop
SUMMARY:UNBOUND 2025
DESCRIPTION:
URL:https://prideart.shop/event/unbound-2025/2025-09-05/
LOCATION:prideART Berlin e.V.\, Söhtstr. 7\, Berlin\, Berlin\, 12203\, Deutschland
ATTACH;FMTTYPE=image/jpeg:https://prideart.shop/wp-content/uploads/2025/05/Unbound-2025-scaled.jpg
END:VEVENT
BEGIN:VEVENT
DTSTART;VALUE=DATE:20250831
DTEND;VALUE=DATE:20250901
DTSTAMP:20260425T140037
CREATED:20250503T080152Z
LAST-MODIFIED:20250503T084937Z
UID:10000094-1756652400-1756670400@prideart.shop
SUMMARY:UNBOUND 2025
DESCRIPTION:
URL:https://prideart.shop/event/unbound-2025/2025-08-31/
LOCATION:prideART Berlin e.V.\, Söhtstr. 7\, Berlin\, Berlin\, 12203\, Deutschland
ATTACH;FMTTYPE=image/jpeg:https://prideart.shop/wp-content/uploads/2025/05/Unbound-2025-scaled.jpg
END:VEVENT
BEGIN:VEVENT
DTSTART;VALUE=DATE:20250830
DTEND;VALUE=DATE:20250831
DTSTAMP:20260425T140037
CREATED:20250503T080152Z
LAST-MODIFIED:20250503T084937Z
UID:10000093-1756566000-1756584000@prideart.shop
SUMMARY:UNBOUND 2025
DESCRIPTION:
URL:https://prideart.shop/event/unbound-2025/2025-08-30/
LOCATION:prideART Berlin e.V.\, Söhtstr. 7\, Berlin\, Berlin\, 12203\, Deutschland
ATTACH;FMTTYPE=image/jpeg:https://prideart.shop/wp-content/uploads/2025/05/Unbound-2025-scaled.jpg
END:VEVENT
BEGIN:VEVENT
DTSTART;VALUE=DATE:20250829
DTEND;VALUE=DATE:20250830
DTSTAMP:20260425T140037
CREATED:20250503T080152Z
LAST-MODIFIED:20250503T084937Z
UID:10000092-1756479600-1756497600@prideart.shop
SUMMARY:UNBOUND 2025
DESCRIPTION:
URL:https://prideart.shop/event/unbound-2025/2025-08-29/
LOCATION:prideART Berlin e.V.\, Söhtstr. 7\, Berlin\, Berlin\, 12203\, Deutschland
ATTACH;FMTTYPE=image/jpeg:https://prideart.shop/wp-content/uploads/2025/05/Unbound-2025-scaled.jpg
END:VEVENT
BEGIN:VEVENT
DTSTART;VALUE=DATE:20250827
DTEND;VALUE=DATE:20250828
DTSTAMP:20260425T140037
CREATED:20250503T080152Z
LAST-MODIFIED:20250503T084937Z
UID:10000091-1756317600-1756332000@prideart.shop
SUMMARY:UNBOUND 2025
DESCRIPTION:
URL:https://prideart.shop/event/unbound-2025/2025-08-27/2/
LOCATION:prideART Berlin e.V.\, Söhtstr. 7\, Berlin\, Berlin\, 12203\, Deutschland
ATTACH;FMTTYPE=image/jpeg:https://prideart.shop/wp-content/uploads/2025/05/Unbound-2025-scaled.jpg
END:VEVENT
BEGIN:VEVENT
DTSTART;VALUE=DATE:20250827
DTEND;VALUE=DATE:20250915
DTSTAMP:20260425T140037
CREATED:20250503T080152Z
LAST-MODIFIED:20250503T084937Z
UID:10000062-1756252800-1757894399@prideart.shop
SUMMARY:UNBOUND 2025
DESCRIPTION:
URL:https://prideart.shop/event/unbound-2025/2025-08-27/1/
LOCATION:prideART Berlin e.V.\, Söhtstr. 7\, Berlin\, Berlin\, 12203\, Deutschland
ATTACH;FMTTYPE=image/jpeg:https://prideart.shop/wp-content/uploads/2025/05/Unbound-2025-scaled.jpg
END:VEVENT
BEGIN:VEVENT
DTSTART;VALUE=DATE:20250727
DTEND;VALUE=DATE:20250728
DTSTAMP:20260425T140037
CREATED:20250503T080033Z
LAST-MODIFIED:20250503T084416Z
UID:10000090-1753628400-1753646400@prideart.shop
SUMMARY:Intersectional 7.0: REVOLT OF COLOUR
DESCRIPTION:
URL:https://prideart.shop/event/intersectional-7-0-revolt-of-colour/2025-07-27/
LOCATION:prideART Berlin e.V.\, Söhtstr. 7\, Berlin\, Berlin\, 12203\, Deutschland
ATTACH;FMTTYPE=image/jpeg:https://prideart.shop/wp-content/uploads/2025/05/Revolt-of-Colour.jpg
END:VEVENT
BEGIN:VEVENT
DTSTART;VALUE=DATE:20250726
DTEND;VALUE=DATE:20250727
DTSTAMP:20260425T140037
CREATED:20250503T080033Z
LAST-MODIFIED:20250503T084416Z
UID:10000089-1753542000-1753560000@prideart.shop
SUMMARY:Intersectional 7.0: REVOLT OF COLOUR
DESCRIPTION:
URL:https://prideart.shop/event/intersectional-7-0-revolt-of-colour/2025-07-26/
LOCATION:prideART Berlin e.V.\, Söhtstr. 7\, Berlin\, Berlin\, 12203\, Deutschland
ATTACH;FMTTYPE=image/jpeg:https://prideart.shop/wp-content/uploads/2025/05/Revolt-of-Colour.jpg
END:VEVENT
BEGIN:VEVENT
DTSTART;VALUE=DATE:20250725
DTEND;VALUE=DATE:20250726
DTSTAMP:20260425T140037
CREATED:20250503T080033Z
LAST-MODIFIED:20250503T084416Z
UID:10000088-1753455600-1753473600@prideart.shop
SUMMARY:Intersectional 7.0: REVOLT OF COLOUR
DESCRIPTION:
URL:https://prideart.shop/event/intersectional-7-0-revolt-of-colour/2025-07-25/
LOCATION:prideART Berlin e.V.\, Söhtstr. 7\, Berlin\, Berlin\, 12203\, Deutschland
ATTACH;FMTTYPE=image/jpeg:https://prideart.shop/wp-content/uploads/2025/05/Revolt-of-Colour.jpg
END:VEVENT
BEGIN:VEVENT
DTSTART;VALUE=DATE:20250720
DTEND;VALUE=DATE:20250721
DTSTAMP:20260425T140037
CREATED:20250503T080033Z
LAST-MODIFIED:20250503T084416Z
UID:10000087-1753023600-1753041600@prideart.shop
SUMMARY:Intersectional 7.0: REVOLT OF COLOUR
DESCRIPTION:
URL:https://prideart.shop/event/intersectional-7-0-revolt-of-colour/2025-07-20/
LOCATION:prideART Berlin e.V.\, Söhtstr. 7\, Berlin\, Berlin\, 12203\, Deutschland
ATTACH;FMTTYPE=image/jpeg:https://prideart.shop/wp-content/uploads/2025/05/Revolt-of-Colour.jpg
END:VEVENT
BEGIN:VEVENT
DTSTART;VALUE=DATE:20250719
DTEND;VALUE=DATE:20250720
DTSTAMP:20260425T140037
CREATED:20250503T080033Z
LAST-MODIFIED:20250503T084416Z
UID:10000086-1752937200-1752955200@prideart.shop
SUMMARY:Intersectional 7.0: REVOLT OF COLOUR
DESCRIPTION:
URL:https://prideart.shop/event/intersectional-7-0-revolt-of-colour/2025-07-19/
LOCATION:prideART Berlin e.V.\, Söhtstr. 7\, Berlin\, Berlin\, 12203\, Deutschland
ATTACH;FMTTYPE=image/jpeg:https://prideart.shop/wp-content/uploads/2025/05/Revolt-of-Colour.jpg
END:VEVENT
BEGIN:VEVENT
DTSTART;VALUE=DATE:20250718
DTEND;VALUE=DATE:20250719
DTSTAMP:20260425T140037
CREATED:20250503T080033Z
LAST-MODIFIED:20250503T084416Z
UID:10000085-1752850800-1752868800@prideart.shop
SUMMARY:Intersectional 7.0: REVOLT OF COLOUR
DESCRIPTION:
URL:https://prideart.shop/event/intersectional-7-0-revolt-of-colour/2025-07-18/
LOCATION:prideART Berlin e.V.\, Söhtstr. 7\, Berlin\, Berlin\, 12203\, Deutschland
ATTACH;FMTTYPE=image/jpeg:https://prideart.shop/wp-content/uploads/2025/05/Revolt-of-Colour.jpg
END:VEVENT
BEGIN:VEVENT
DTSTART;VALUE=DATE:20250713
DTEND;VALUE=DATE:20250714
DTSTAMP:20260425T140037
CREATED:20250503T080033Z
LAST-MODIFIED:20250503T084416Z
UID:10000084-1752418800-1752436800@prideart.shop
SUMMARY:Intersectional 7.0: REVOLT OF COLOUR
DESCRIPTION:
URL:https://prideart.shop/event/intersectional-7-0-revolt-of-colour/2025-07-13/
LOCATION:prideART Berlin e.V.\, Söhtstr. 7\, Berlin\, Berlin\, 12203\, Deutschland
ATTACH;FMTTYPE=image/jpeg:https://prideart.shop/wp-content/uploads/2025/05/Revolt-of-Colour.jpg
END:VEVENT
BEGIN:VEVENT
DTSTART;VALUE=DATE:20250712
DTEND;VALUE=DATE:20250713
DTSTAMP:20260425T140037
CREATED:20250503T080033Z
LAST-MODIFIED:20250503T084416Z
UID:10000083-1752332400-1752350400@prideart.shop
SUMMARY:Intersectional 7.0: REVOLT OF COLOUR
DESCRIPTION:
URL:https://prideart.shop/event/intersectional-7-0-revolt-of-colour/2025-07-12/
LOCATION:prideART Berlin e.V.\, Söhtstr. 7\, Berlin\, Berlin\, 12203\, Deutschland
ATTACH;FMTTYPE=image/jpeg:https://prideart.shop/wp-content/uploads/2025/05/Revolt-of-Colour.jpg
END:VEVENT
BEGIN:VEVENT
DTSTART;VALUE=DATE:20250711
DTEND;VALUE=DATE:20250712
DTSTAMP:20260425T140037
CREATED:20250503T080033Z
LAST-MODIFIED:20250503T084416Z
UID:10000082-1752246000-1752264000@prideart.shop
SUMMARY:Intersectional 7.0: REVOLT OF COLOUR
DESCRIPTION:
URL:https://prideart.shop/event/intersectional-7-0-revolt-of-colour/2025-07-11/
LOCATION:prideART Berlin e.V.\, Söhtstr. 7\, Berlin\, Berlin\, 12203\, Deutschland
ATTACH;FMTTYPE=image/jpeg:https://prideart.shop/wp-content/uploads/2025/05/Revolt-of-Colour.jpg
END:VEVENT
BEGIN:VEVENT
DTSTART;VALUE=DATE:20250710
DTEND;VALUE=DATE:20250711
DTSTAMP:20260425T140037
CREATED:20250503T080033Z
LAST-MODIFIED:20250503T084416Z
UID:10000081-1752170400-1752184800@prideart.shop
SUMMARY:Intersectional 7.0: REVOLT OF COLOUR
DESCRIPTION:
URL:https://prideart.shop/event/intersectional-7-0-revolt-of-colour/2025-07-10/2/
LOCATION:prideART Berlin e.V.\, Söhtstr. 7\, Berlin\, Berlin\, 12203\, Deutschland
ATTACH;FMTTYPE=image/jpeg:https://prideart.shop/wp-content/uploads/2025/05/Revolt-of-Colour.jpg
END:VEVENT
BEGIN:VEVENT
DTSTART;VALUE=DATE:20250710
DTEND;VALUE=DATE:20250728
DTSTAMP:20260425T140037
CREATED:20250503T080033Z
LAST-MODIFIED:20250503T084416Z
UID:10000061-1752105600-1753660799@prideart.shop
SUMMARY:Intersectional 7.0: REVOLT OF COLOUR
DESCRIPTION:
URL:https://prideart.shop/event/intersectional-7-0-revolt-of-colour/2025-07-10/1/
LOCATION:prideART Berlin e.V.\, Söhtstr. 7\, Berlin\, Berlin\, 12203\, Deutschland
ATTACH;FMTTYPE=image/jpeg:https://prideart.shop/wp-content/uploads/2025/05/Revolt-of-Colour.jpg
END:VEVENT
END:VCALENDAR